BEGIN:VCALENDAR
VERSION:2.0
PRODID:-//FOPLA-AABPO - ECPv6.8.3//NONSGML v1.0//EN
CALSCALE:GREGORIAN
METHOD:PUBLISH
X-WR-CALNAME:FOPLA-AABPO
X-ORIGINAL-URL:https://www.fopla-aabpo.ca
X-WR-CALDESC:Events for FOPLA-AABPO
REFRESH-INTERVAL;VALUE=DURATION:PT1H
X-Robots-Tag:noindex
X-PUBLISHED-TTL:PT1H
BEGIN:VTIMEZONE
TZID:America/Toronto
BEGIN:DAYLIGHT
TZOFFSETFROM:-0500
TZOFFSETTO:-0400
TZNAME:EDT
DTSTART:20170312T070000
END:DAYLIGHT
BEGIN:STANDARD
TZOFFSETFROM:-0400
TZOFFSETTO:-0500
TZNAME:EST
DTSTART:20171105T060000
END:STANDARD
END:VTIMEZONE
BEGIN:VEVENT
DTSTART;VALUE=DATE:20170808
DTEND;VALUE=DATE:20170819
DTSTAMP:20260425T062717
CREATED:20170808T190404Z
LAST-MODIFIED:20170817T194639Z
UID:10000045-1502150400-1503100799@www.fopla-aabpo.ca
SUMMARY:Ruth E. Dickinson Summer Sale
DESCRIPTION:Two Stories Bookstore at the Ruth E. Dickinson branch has put together a selection of their best titles for a special Summer Sale! \nChildren’s: 4 for $1\nSmall Paperbacks: 4 for $1\nHardcover\, Trades & all Non-Fiction: 2 for $1\nCD & DVD’s: 2 for $1
URL:https://www.fopla-aabpo.ca/event/ruth-e-dickinson-summer-sale/
LOCATION:Ruth E. Dickinson Branch\, 100 Malvern Drive\, Ottawa\, ON\, K2J 2G5\, Canada
CATEGORIES:FOPLA Book Sales
ATTACH;FMTTYPE=image/jpeg:https://www.fopla-aabpo.ca/wp-content/uploads/2017/08/AdobeStock_23735298.jpg
ORGANIZER;CN="FOPLA - AABPO":MAILTO:info@fopla-aabpo.ca
GEO:45.2799047;-75.7618269
X-APPLE-STRUCTURED-LOCATION;VALUE=URI;X-ADDRESS=Ruth E. Dickinson Branch 100 Malvern Drive Ottawa ON K2J 2G5 Canada;X-APPLE-RADIUS=500;X-TITLE=100 Malvern Drive:geo:-75.7618269,45.2799047
END:VEVENT
BEGIN:VEVENT
DTSTART;VALUE=DATE:20170801
DTEND;VALUE=DATE:20170901
DTSTAMP:20260425T062717
CREATED:20170727T181315Z
LAST-MODIFIED:20170727T182436Z
UID:10000043-1501545600-1504223999@www.fopla-aabpo.ca
SUMMARY:The Friends' Bookshop Summer Sale
DESCRIPTION:The Friends’ Bookshop at Main Library has put together a selection of their best titles for a special Summer Sale. Buy 3 books and get the 4th one for free throughout the store! \nFree item must be of equal or lesser value to the lowest priced qualifying item purchased. \nHours:\nMon to Fri: 11:00 – 16:30\nSat: 12:00 – 16:00
URL:https://www.fopla-aabpo.ca/event/friends-bookshop-summer-sale/
LOCATION:The Friends’ Bookshop (Main Library)\, 120 Metcalfe Street (Lower Level)\, Ottawa\, ON\, K1P 5M2\, Canada
CATEGORIES:FOPLA Book Sales
ATTACH;FMTTYPE=image/jpeg:https://www.fopla-aabpo.ca/wp-content/uploads/2017/06/SummerSale.jpg
ORGANIZER;CN="FOPLA - AABPO":MAILTO:info@fopla-aabpo.ca
GEO:45.4203141;-75.6954206
X-APPLE-STRUCTURED-LOCATION;VALUE=URI;X-ADDRESS=The Friends’ Bookshop (Main Library) 120 Metcalfe Street (Lower Level) Ottawa ON K1P 5M2 Canada;X-APPLE-RADIUS=500;X-TITLE=120 Metcalfe Street (Lower Level):geo:-75.6954206,45.4203141
END:VEVENT
BEGIN:VEVENT
DTSTART;TZID=America/Toronto:20170708T100000
DTEND;TZID=America/Toronto:20170708T170000
DTSTAMP:20260425T062717
CREATED:20170705T151931Z
LAST-MODIFIED:20170705T151931Z
UID:10000041-1499508000-1499533200@www.fopla-aabpo.ca
SUMMARY:Strawberry Social Celebration Sale
DESCRIPTION:In celebration of the Ottawa Public Library’s Dominion Day Strawberry Social event\, Second Editions at Nepean Centrepointe is having a one-day only 50% off sale! \nEverything in the store will be 50% off\, so don’t miss this fantastic opportunity to pick up some new summer reading material at this fantastic sale.
URL:https://www.fopla-aabpo.ca/event/strawberry-social-celebration-sale/
LOCATION:Second Editions (Nepean Centrepointe)\, 101 Centrepointe Drive\, Ottawa\, ON\, K2G 5K7\, Canada
CATEGORIES:FOPLA Book Sales
ATTACH;FMTTYPE=image/jpeg:https://www.fopla-aabpo.ca/wp-content/uploads/2017/07/StrawberrySocial.jpg
ORGANIZER;CN="FOPLA - AABPO":MAILTO:info@fopla-aabpo.ca
GEO:45.344065;-75.7641062
X-APPLE-STRUCTURED-LOCATION;VALUE=URI;X-ADDRESS=Second Editions (Nepean Centrepointe) 101 Centrepointe Drive Ottawa ON K2G 5K7 Canada;X-APPLE-RADIUS=500;X-TITLE=101 Centrepointe Drive:geo:-75.7641062,45.344065
END:VEVENT
BEGIN:VEVENT
DTSTART;TZID=America/Toronto:20170629T183000
DTEND;TZID=America/Toronto:20170629T193000
DTSTAMP:20260425T062717
CREATED:20170613T170424Z
LAST-MODIFIED:20170613T170424Z
UID:10000035-1498761000-1498764600@www.fopla-aabpo.ca
SUMMARY:2017 Annual General Meeting
DESCRIPTION:Each year\, the Friends of the Ottawa Public Library Association (FOPLA) holds an Annual General Meeting (AGM) that is open to our Members*\, volunteers\, stakeholders\, and interested community members. \nJoin us on June 29th\, 2017 to hear from our Board of Directors and staff of the Ottawa Public Library on FOPLA’s successes and achievements over the past year. Attendees will learn about FOPLA’s operations\, strategic planning\, and donations to the Ottawa Public Library in 2016. You’ll also have the opportunity to ask the Board any questions you have about FOPLA’s activities throughout the year. \nMembers will be able to exercise their right to vote\, either in person or by proxy\, to help elect nominees to any vacant positions on the Board. If you would like to become a member of FOPLA before this year’s meeting\, please click here for more details and to join now. \nWe’ll also present awards to all of the hard-working FOPLA volunteers who are celebrating 5\, 10\, 15\, 20\, or 25+ milestones with us this year. \nRSVP by June 26th\, 2017 to:\ninfo@fopla-aabpoc.ca or call 613-580-2424 x14383 \nTo download AGM documents prior to the event\, including proxy voting forms for FOPLA Members\, please click here. \n*A FOPLA Member is defined as someone who has paid their membership fees\, or an active volunteer who has received permission from the Board to waive the membership fee for a specific year.  Every Member in good standing has the right to vote in person or by proxy.
URL:https://www.fopla-aabpo.ca/event/2017-annual-general-meeting/
LOCATION:Main Library Auditorium\, 120 Metcalfe Street\, Ottawa\, ON\, K1P 5M2\, Canada
CATEGORIES:Annual General Meeting
ATTACH;FMTTYPE=image/jpeg:https://www.fopla-aabpo.ca/wp-content/uploads/2017/06/AGM_Pic.jpg
ORGANIZER;CN="FOPLA - AABPO":MAILTO:info@fopla-aabpo.ca
GEO:45.4203141;-75.6954206
X-APPLE-STRUCTURED-LOCATION;VALUE=URI;X-ADDRESS=Main Library Auditorium 120 Metcalfe Street Ottawa ON K1P 5M2 Canada;X-APPLE-RADIUS=500;X-TITLE=120 Metcalfe Street:geo:-75.6954206,45.4203141
END:VEVENT
BEGIN:VEVENT
DTSTART;VALUE=DATE:20170622
DTEND;VALUE=DATE:20170707
DTSTAMP:20260425T062717
CREATED:20170622T193001Z
LAST-MODIFIED:20170622T193001Z
UID:10000039-1498089600-1499385599@www.fopla-aabpo.ca
SUMMARY:Encore Orléans Great Canadian Literacy Sale
DESCRIPTION:In celebration of Canada’s 150th birthday\, Encore Orléans is having a Great Canadian Literacy Sale! Stop by the Orléans branch between June 22 and July 6th\, 2017 to find exciting titles by all Canadian authors including novels\, history\, politics\, war\, and much more. \nFor opening hours of the Orléans branch\, please click here.
URL:https://www.fopla-aabpo.ca/event/encore-orleans-great-canadian-literacy-sale/
LOCATION:Orléans Branch\, 1705 Orléans Road\, Ottawa\, ON\, K1C 4W2\, Canada
CATEGORIES:FOPLA Book Sales
ATTACH;FMTTYPE=image/jpeg:https://www.fopla-aabpo.ca/wp-content/uploads/2017/06/CanadaReads.jpg
ORGANIZER;CN="FOPLA - AABPO":MAILTO:info@fopla-aabpo.ca
GEO:45.4565154;-75.5238263
X-APPLE-STRUCTURED-LOCATION;VALUE=URI;X-ADDRESS=Orléans Branch 1705 Orléans Road Ottawa ON K1C 4W2 Canada;X-APPLE-RADIUS=500;X-TITLE=1705 Orléans Road:geo:-75.5238263,45.4565154
END:VEVENT
BEGIN:VEVENT
DTSTART;VALUE=DATE:20170601
DTEND;VALUE=DATE:20170701
DTSTAMP:20260425T062717
CREATED:20170615T172817Z
LAST-MODIFIED:20170615T173336Z
UID:10000037-1496275200-1498867199@www.fopla-aabpo.ca
SUMMARY:The Bookworm Summer Sale
DESCRIPTION:The Bookworm at the Cumberland Branch has put together a selection of their best titles for a special Summer Sale. English and French titles are available\, so come find the perfect book to enjoy in the nice weather. \nHours:\nMon to Fri: 10:30 – 14:30\nSat: 10:00 – 15:00
URL:https://www.fopla-aabpo.ca/event/bookworm-summer-sale/
LOCATION:The Bookworm (Cumberland Branch)\, 1599 Tenth Line Road\, Orléans\, ON\, K1E 3E8\, Canada
CATEGORIES:FOPLA Book Sales
ATTACH;FMTTYPE=image/jpeg:https://www.fopla-aabpo.ca/wp-content/uploads/2017/06/SummerSale.jpg
ORGANIZER;CN="FOPLA - AABPO":MAILTO:info@fopla-aabpo.ca
GEO:45.468682;-75.4922961
X-APPLE-STRUCTURED-LOCATION;VALUE=URI;X-ADDRESS=The Bookworm (Cumberland Branch) 1599 Tenth Line Road Orléans ON K1E 3E8 Canada;X-APPLE-RADIUS=500;X-TITLE=1599 Tenth Line Road:geo:-75.4922961,45.468682
END:VEVENT
BEGIN:VEVENT
DTSTART;VALUE=DATE:20170515
DTEND;VALUE=DATE:20170701
DTSTAMP:20260425T062717
CREATED:20170518T141931Z
LAST-MODIFIED:20170518T143504Z
UID:10000031-1494806400-1498867199@www.fopla-aabpo.ca
SUMMARY:Coral's Corner Canadiana Sale
DESCRIPTION:Coral’s Corner is celebrating Canada’s 150th with a special ongoing display of Canadiana. \nExplore local and national history books\, picture books\, specialty small-press publications\, and genealogy\, as well as some must-read Canadian classics like Anne of Green Gables and works by Robertson Davies. \nThis special display will be available at Coral’s Corner until July 1st\, 2017. Please check the Ottawa Public Library’s website for opening hours of the North Gower branch. \n 
URL:https://www.fopla-aabpo.ca/event/corals-corner-canadiana-sale/
LOCATION:North Gower Branch\, 6579 Fourth Line Road\, Ottawa\, ON\, K0A 2T0\, Canada
CATEGORIES:FOPLA Book Sales
ATTACH;FMTTYPE=image/jpeg:https://www.fopla-aabpo.ca/wp-content/uploads/2017/05/CanadaSale.jpg
ORGANIZER;CN="FOPLA - AABPO":MAILTO:info@fopla-aabpo.ca
GEO:45.1329321;-75.7175132
X-APPLE-STRUCTURED-LOCATION;VALUE=URI;X-ADDRESS=North Gower Branch 6579 Fourth Line Road Ottawa ON K0A 2T0 Canada;X-APPLE-RADIUS=500;X-TITLE=6579 Fourth Line Road:geo:-75.7175132,45.1329321
END:VEVENT
END:VCALENDAR