BEGIN:VCALENDAR
VERSION:2.0
PRODID:-//FOPLA-AABPO - ECPv6.8.3//NONSGML v1.0//EN
CALSCALE:GREGORIAN
METHOD:PUBLISH
X-ORIGINAL-URL:https://www.fopla-aabpo.ca
X-WR-CALDESC:Events for FOPLA-AABPO
REFRESH-INTERVAL;VALUE=DURATION:PT1H
X-Robots-Tag:noindex
X-PUBLISHED-TTL:PT1H
BEGIN:VTIMEZONE
TZID:America/Toronto
BEGIN:DAYLIGHT
TZOFFSETFROM:-0500
TZOFFSETTO:-0400
TZNAME:EDT
DTSTART:20170312T070000
END:DAYLIGHT
BEGIN:STANDARD
TZOFFSETFROM:-0400
TZOFFSETTO:-0500
TZNAME:EST
DTSTART:20171105T060000
END:STANDARD
BEGIN:DAYLIGHT
TZOFFSETFROM:-0500
TZOFFSETTO:-0400
TZNAME:EDT
DTSTART:20180311T070000
END:DAYLIGHT
BEGIN:STANDARD
TZOFFSETFROM:-0400
TZOFFSETTO:-0500
TZNAME:EST
DTSTART:20181104T060000
END:STANDARD
BEGIN:DAYLIGHT
TZOFFSETFROM:-0500
TZOFFSETTO:-0400
TZNAME:EDT
DTSTART:20190310T070000
END:DAYLIGHT
BEGIN:STANDARD
TZOFFSETFROM:-0400
TZOFFSETTO:-0500
TZNAME:EST
DTSTART:20191103T060000
END:STANDARD
END:VTIMEZONE
BEGIN:VEVENT
DTSTART;TZID=America/Toronto:20190613T183000
DTEND;TZID=America/Toronto:20190613T193000
DTSTAMP:20260414T154521
CREATED:20190515T192745Z
LAST-MODIFIED:20190515T192745Z
UID:10000099-1560450600-1560454200@www.fopla-aabpo.ca
SUMMARY:Annual General Meeting
DESCRIPTION:Join us at the Annual General Meeting of the Friends of the Ottawa Public Library Association (FOPLA)\, where we welcome FOPLA Members*\, volunteers\, stakeholders\, and community members. \nJoin us June 13\, 2019 to hear from our Board of Directors and staff of the Ottawa Public Library on FOPLA’s successes and achievements over the past year. Attendees will learn about FOPLA’s operations\, strategic planning efforts\, and donations to the Ottawa Public Library in 2018. You’ll also have the opportunity to ask the Board any questions about FOPLA’s activities throughout the year. \nMembers will be able to exercise their right to vote\, either in person or by proxy\, to help elect nominees to any vacant positions on the Board. If you would like to become a member of FOPLA before this year’s meeting\, click here to join now. \nWe’ll also present awards to all of the hard-working FOPLA volunteers who are celebrating 5\, 10\, 15\, 20\, or 25+ milestones this year. \n*A FOPLA Member is defined as someone who has paid their membership fees. Every Member in good standing has the right to vote in person or by proxy.
URL:https://www.fopla-aabpo.ca/event/annual-general-meeting/
LOCATION:The Chamber\, Ben Franklin Place\, 101 Centrepointe Drive\, Ottawa\, ON\, K2G 0B5\, Canada
CATEGORIES:Annual General Meeting
ATTACH;FMTTYPE=image/jpeg:https://www.fopla-aabpo.ca/wp-content/uploads/2017/06/AGM_Pic.jpg
ORGANIZER;CN="FOPLA - AABPO":MAILTO:info@fopla-aabpo.ca
GEO:45.3446072;-75.7627247
X-APPLE-STRUCTURED-LOCATION;VALUE=URI;X-ADDRESS=The Chamber Ben Franklin Place 101 Centrepointe Drive Ottawa ON K2G 0B5 Canada;X-APPLE-RADIUS=500;X-TITLE=101 Centrepointe Drive:geo:-75.7627247,45.3446072
END:VEVENT
BEGIN:VEVENT
DTSTART;TZID=America/Toronto:20181108T183000
DTEND;TZID=America/Toronto:20181108T200000
DTSTAMP:20260414T154521
CREATED:20181010T200311Z
LAST-MODIFIED:20181023T185548Z
UID:10000067-1541701800-1541707200@www.fopla-aabpo.ca
SUMMARY:pot-pourri 2018
DESCRIPTION:It’s that time of year again – time to get ready for pot-pourri 2018! This collection features poetry\, short-stories\, and comics by the winners of the Ottawa Public Library’s annual Awesome Authors Youth Writing contest. \nSince 2007\, we’ve sponsored the Awesome Authors contest as part of our support of the Ottawa Public Library. We’re proud to publish pot-pourri every year\, which encourages local youths to get creative and show off their artistic skills in both official languages. \nThis year’s launch will take place on Thursday\, November 8\, 2018 from 6:30 – 8PM at Ben Franklin Place (101 Centrepointe Drive). Each winning author will be invited to join family and friends to celebrate their achievement\, and receive a copy of this year’s anthology. \nPre-Order pot-pourri 2018
URL:https://www.fopla-aabpo.ca/event/pot-pourri-2018/
LOCATION:The Chamber\, Ben Franklin Place\, 101 Centrepointe Drive\, Ottawa\, ON\, K2G 0B5\, Canada
CATEGORIES:Special Event
ATTACH;FMTTYPE=image/jpeg:https://www.fopla-aabpo.ca/wp-content/uploads/2018/10/pot-pourri-2018.jpg
ORGANIZER;CN="FOPLA - AABPO":MAILTO:info@fopla-aabpo.ca
GEO:45.3446072;-75.7627247
X-APPLE-STRUCTURED-LOCATION;VALUE=URI;X-ADDRESS=The Chamber Ben Franklin Place 101 Centrepointe Drive Ottawa ON K2G 0B5 Canada;X-APPLE-RADIUS=500;X-TITLE=101 Centrepointe Drive:geo:-75.7627247,45.3446072
END:VEVENT
BEGIN:VEVENT
DTSTART;TZID=America/Toronto:20171106T183000
DTEND;TZID=America/Toronto:20171106T200000
DTSTAMP:20260414T154521
CREATED:20171018T184624Z
LAST-MODIFIED:20171018T184624Z
UID:10000053-1509993000-1509998400@www.fopla-aabpo.ca
SUMMARY:pot-pourri 2017
DESCRIPTION:It’s that time of year again – time to get ready for pot-pourri 2017! This collection features poetry\, short-stories\, and comics by the winners of the Ottawa Public Library’s annual Awesome Authors Youth Writing contest. \nSince 2007\, we’ve sponsored the Awesome Authors contest as part of our commitment to support the programming of the Ottawa Public Library. \nThis year’s launch event will take place on Monday\, November 6\, 2017 from 6:30 – 8PM at Ben Franklin Place\, located at 101 Centrepointe Drive. Each winning author will be invited to join family and friends to celebrate their achievement\, and receive a copy of the anthology. \nBe sure to join us for the book launch on November 6 to purchase your copy and see for yourself how incredible Ottawa’s young authors’ talent can be. \nRSVP to info@fopla-aabpo.ca or call 613-580-2424 x14383 by November 1.
URL:https://www.fopla-aabpo.ca/event/pot-pourri-2017/
LOCATION:The Chamber\, Ben Franklin Place\, 101 Centrepointe Drive\, Ottawa\, ON\, K2G 0B5\, Canada
CATEGORIES:Special Event
ATTACH;FMTTYPE=image/jpeg:https://www.fopla-aabpo.ca/wp-content/uploads/2017/10/pot-pourri-2017.jpg
ORGANIZER;CN="FOPLA - AABPO":MAILTO:info@fopla-aabpo.ca
GEO:45.3446072;-75.7627247
X-APPLE-STRUCTURED-LOCATION;VALUE=URI;X-ADDRESS=The Chamber Ben Franklin Place 101 Centrepointe Drive Ottawa ON K2G 0B5 Canada;X-APPLE-RADIUS=500;X-TITLE=101 Centrepointe Drive:geo:-75.7627247,45.3446072
END:VEVENT
END:VCALENDAR